BEGIN:VCALENDAR
VERSION:2.0
PRODID:-//Thérapeute de l&#039;âme - Psychologue clinicienne à Beauvechain (Brabant Wallon) - Thérapie adultes, thérapie de couple, constellations familiales, cercles de femmes - ECPv6.15.17.1//NONSGML v1.0//EN
CALSCALE:GREGORIAN
METHOD:PUBLISH
X-WR-CALNAME:Thérapeute de l&#039;âme - Psychologue clinicienne à Beauvechain (Brabant Wallon) - Thérapie adultes, thérapie de couple, constellations familiales, cercles de femmes
X-ORIGINAL-URL:https://therapeutedelame.be
X-WR-CALDESC:Évènements pour Thérapeute de l&#039;âme - Psychologue clinicienne à Beauvechain (Brabant Wallon) - Thérapie adultes, thérapie de couple, constellations familiales, cercles de femmes
REFRESH-INTERVAL;VALUE=DURATION:PT1H
X-Robots-Tag:noindex
X-PUBLISHED-TTL:PT1H
BEGIN:VTIMEZONE
TZID:Europe/Paris
BEGIN:DAYLIGHT
TZOFFSETFROM:+0100
TZOFFSETTO:+0200
TZNAME:CEST
DTSTART:20250330T010000
END:DAYLIGHT
BEGIN:STANDARD
TZOFFSETFROM:+0200
TZOFFSETTO:+0100
TZNAME:CET
DTSTART:20251026T010000
END:STANDARD
BEGIN:DAYLIGHT
TZOFFSETFROM:+0100
TZOFFSETTO:+0200
TZNAME:CEST
DTSTART:20260329T010000
END:DAYLIGHT
BEGIN:STANDARD
TZOFFSETFROM:+0200
TZOFFSETTO:+0100
TZNAME:CET
DTSTART:20261025T010000
END:STANDARD
BEGIN:DAYLIGHT
TZOFFSETFROM:+0100
TZOFFSETTO:+0200
TZNAME:CEST
DTSTART:20270328T010000
END:DAYLIGHT
BEGIN:STANDARD
TZOFFSETFROM:+0200
TZOFFSETTO:+0100
TZNAME:CET
DTSTART:20271031T010000
END:STANDARD
BEGIN:DAYLIGHT
TZOFFSETFROM:+0100
TZOFFSETTO:+0200
TZNAME:CEST
DTSTART:20280326T010000
END:DAYLIGHT
BEGIN:STANDARD
TZOFFSETFROM:+0200
TZOFFSETTO:+0100
TZNAME:CET
DTSTART:20281029T010000
END:STANDARD
END:VTIMEZONE
BEGIN:VEVENT
DTSTART;TZID=Europe/Paris:20260923T190000
DTEND;TZID=Europe/Paris:20270621T223000
DTSTAMP:20260423T105359
CREATED:20260112T202457Z
LAST-MODIFIED:20260324T113934Z
UID:48319-1790190000-1813617000@therapeutedelame.be
SUMMARY:Le cycle sacré des saisons
DESCRIPTION:Numérologie karmique tibétaine				\n				\n				\n		\n		\n				\n				\n					Le 				\n				\n				\n				\n					vendredi 13 mars 2026				\n				\n				\n		\n				\n				\n					De				\n				\n				\n				\n					09h30 				\n				\n				\n				\n					à				\n				\n				\n				\n					17h00  				\n				\n				\n				\n		\n				\n				\n					Une journée pour découvrir ce que la numérologie karmique tibétaine révèle de votre chemin d'âme ✨ \n				\n				\n				\n		\n				\n				\n					Le chemin de notre incarnation				\n				\n				\n				\n									Depuis des millénaires les nombres sont perçus comme des symboles qui portent une vibration. La numérologie karmique tibétaine est un savoir ancestral qui éclaire le sens profond de notre incarnation. Elle s’appuie sur les vibrations des nombres issus de notre date de naissance pour révéler notre chemin d’âme\, nos mémoires karmiques et les grandes leçons que nous sommes venu(e)s expérimenter dans cette vie. Notre thème natal nous parle des vibrations que nous portons en nous\, des guérisons que nous avons à pacifier et de la voie à suivre pour nous réaliser. Connaître son thème en numérologie\, c’est mettre des mots sur ce que l’on sent déjà à l’intérieur de soi de qui l’on est et du cadeau que l’on est venu offrir au monde. C’est se donner la permission d’être soi et de suivre son vrai chemin ✨ L’année 2026 est une année 1\, et en ce sens\, un nouveau cycle s’ouvre pour tous. Ce renouveau sera coloré par l’énergie de votre année personnelle. 								\n				\n		\n				\n				\n																														\n				\n				\n				\n																														\n				\n				\n				\n																														\n				\n				\n		\n				\n				\n									Lors de cette journée\, vous découvrirez: les vibrations qui vous accompagnent depuis votre naissancevos forces naturelles\, vos donsles blocages karmiques essentiels que vous portez en vousle chemin de votre réalisationvotre année personnelle et ce qu’elle vous propose d’explorer en 2026Nous parcourerons le canevas d’un thème de naissance en numérologie karmique tibétaine\, la façon dont on le calcule ainsi que la signification de chaque nombre. Une journée de transmission\, de prises de conscience et de reconnexion à soi\, dans un espace bienveillant et sacré. 								\n				\n				\n				\n				\n					A qui s'adresse la journée?				\n				\n				\n				\n									À toute personne en quête de sens\, de compréhension d’elle-même\, de clarté sur son chemin de vie. Aucun prérequis n’est nécessaire : que vous soyez curieux(se)\, en chemin spirituel ou déjà initié(e)\, bienvenu(e)! Les places sont limitées afin de vous accompagner au mieux dans la découverte de votre thème. 								\n				\n				\n				\n									\n					\n						\n									Je m'inscris!\n					\n					\n				\n								\n				\n				\n				\n		\n				\n				\n									\n				\n		\n		\n				\n				\n					Lieu de l'événement				\n				\n				\n				\n					La yourte de Youdooo				\n				\n				\n				\n					31 rue de Beaumont				\n				\n				\n				\n					1390Nethen				\n				\n		\n				\n				\n					Voir sur la carte				\n				\n				\n				\n									\n				\n				\n				\n				\n				\n				\n																														\n				\n		\n		\n				\n				\n					Tarif				\n				\n		\n				\n				\n					120€				\n				\n				\n				\n					pour la journée				\n				\n				\n				\n				\n					Enseignement\, syllabus et pauses thé/café comprises.\nVous apportez votre repas de midi.
URL:https://therapeutedelame.be/event/imbolc-litha-youdooo/
LOCATION:La yourte de Youdooo\, 31 rue de Beaumont\, Nethen\, 1390\, Belgium
CATEGORIES:Cercles de femme
ATTACH;FMTTYPE=image/png:https://therapeutedelame.be/wp-content/uploads/2026/01/Logo-cercles-saisons-claire-2.png
ORGANIZER;CN="Claire Averty":MAILTO:claire.averty@gmail.com
END:VEVENT
END:VCALENDAR